BEGIN:VCALENDAR
VERSION:2.0
PRODID:-//Veritas Prep - ECPv6.15.20//NONSGML v1.0//EN
CALSCALE:GREGORIAN
METHOD:PUBLISH
X-WR-CALNAME:Veritas Prep
X-ORIGINAL-URL:https://veritasprepma.org
X-WR-CALDESC:Events for Veritas Prep
REFRESH-INTERVAL;VALUE=DURATION:PT1H
X-Robots-Tag:noindex
X-PUBLISHED-TTL:PT1H
BEGIN:VTIMEZONE
TZID:America/New_York
BEGIN:DAYLIGHT
TZOFFSETFROM:-0500
TZOFFSETTO:-0400
TZNAME:EDT
DTSTART:20230312T070000
END:DAYLIGHT
BEGIN:STANDARD
TZOFFSETFROM:-0400
TZOFFSETTO:-0500
TZNAME:EST
DTSTART:20231105T060000
END:STANDARD
BEGIN:DAYLIGHT
TZOFFSETFROM:-0500
TZOFFSETTO:-0400
TZNAME:EDT
DTSTART:20240310T070000
END:DAYLIGHT
BEGIN:STANDARD
TZOFFSETFROM:-0400
TZOFFSETTO:-0500
TZNAME:EST
DTSTART:20241103T060000
END:STANDARD
BEGIN:DAYLIGHT
TZOFFSETFROM:-0500
TZOFFSETTO:-0400
TZNAME:EDT
DTSTART:20250309T070000
END:DAYLIGHT
BEGIN:STANDARD
TZOFFSETFROM:-0400
TZOFFSETTO:-0500
TZNAME:EST
DTSTART:20251102T060000
END:STANDARD
BEGIN:DAYLIGHT
TZOFFSETFROM:-0500
TZOFFSETTO:-0400
TZNAME:EDT
DTSTART:20260308T070000
END:DAYLIGHT
BEGIN:STANDARD
TZOFFSETFROM:-0400
TZOFFSETTO:-0500
TZNAME:EST
DTSTART:20261101T060000
END:STANDARD
BEGIN:DAYLIGHT
TZOFFSETFROM:-0500
TZOFFSETTO:-0400
TZNAME:EDT
DTSTART:20270314T070000
END:DAYLIGHT
BEGIN:STANDARD
TZOFFSETFROM:-0400
TZOFFSETTO:-0500
TZNAME:EST
DTSTART:20271107T060000
END:STANDARD
END:VTIMEZONE
BEGIN:VEVENT
DTSTART;TZID=America/New_York:20260318T140000
DTEND;TZID=America/New_York:20260318T180000
DTSTAMP:20260423T132242
CREATED:20250717T181058Z
LAST-MODIFIED:20250807T203137Z
UID:10000229-1773842400-1773856800@veritasprepma.org
SUMMARY:Middle School Student Lead Conferences
DESCRIPTION:Middle school scholars will lead their own student conference; updating their family members on their progress and what goals they have set for the remainder of the school year. \n  \nConferences take place with one of your scholar’s teachers.  Sign up links for conferences will be sent out the weeks prior to this date to reserve a time for your family.
URL:https://veritasprepma.org/event/middle-school-student-lead-conferences-2/
LOCATION:Middel School Campus\, 370 Pine Street\, Springfield\, MA\, 01105\, United States
CATEGORIES:Middle School
END:VEVENT
BEGIN:VEVENT
DTSTART;TZID=America/New_York:20251119T140000
DTEND;TZID=America/New_York:20251119T180000
DTSTAMP:20260423T132242
CREATED:20250717T180931Z
LAST-MODIFIED:20250717T180931Z
UID:10000228-1763560800-1763575200@veritasprepma.org
SUMMARY:Middle School Student Lead Conferences
DESCRIPTION:Middle school scholars will lead their own student conference; updating their family members on their progress and what goals they have set for the remainder of the school year. \n  \nConferences take place with one of your scholar’s teachers.  Sign up links for conferences will be sent out the weeks prior to this date to reserve a time for your family.
URL:https://veritasprepma.org/event/middle-school-student-lead-conferences/
LOCATION:Middel School Campus\, 370 Pine Street\, Springfield\, MA\, 01105\, United States
END:VEVENT
BEGIN:VEVENT
DTSTART;VALUE=DATE:20250825
DTEND;VALUE=DATE:20250826
DTSTAMP:20260423T132242
CREATED:20250717T173447Z
LAST-MODIFIED:20250717T173447Z
UID:10000222-1756080000-1756166399@veritasprepma.org
SUMMARY:First Day of School
DESCRIPTION:First day of school for both middle school and high school campuses. Welcome back!
URL:https://veritasprepma.org/event/first-day-of-school-2/
LOCATION:Middel School Campus\, 370 Pine Street\, Springfield\, MA\, 01105\, United States
END:VEVENT
BEGIN:VEVENT
DTSTART;TZID=America/New_York:20250821T123000
DTEND;TZID=America/New_York:20250821T160000
DTSTAMP:20260423T132242
CREATED:20250717T173018Z
LAST-MODIFIED:20250717T173018Z
UID:10000221-1755779400-1755792000@veritasprepma.org
SUMMARY:Back to School Event - Middle School
DESCRIPTION:Welcome back to school! Our middle school staff is excited to kick off the 2025-2026 school year with our families!  Come meet your scholar’s new teachers\, visit their new hallway\, and purchase new uniform shirts. We look forward to seeing all of our families!
URL:https://veritasprepma.org/event/back-to-school-event-middle-school/
LOCATION:Middel School Campus\, 370 Pine Street\, Springfield\, MA\, 01105\, United States
END:VEVENT
BEGIN:VEVENT
DTSTART;TZID=America/New_York:20250731T170000
DTEND;TZID=America/New_York:20250731T190000
DTSTAMP:20260423T132242
CREATED:20250717T172610Z
LAST-MODIFIED:20250717T172610Z
UID:10000220-1753981200-1753988400@veritasprepma.org
SUMMARY:New Scholar Orientation #2
DESCRIPTION:Welcome to the Veritas Family! This event is being held for brand new Veritas scholars for the 2025-2026 school year! \nFamilies will hear information about uniforms\, transportation\, and daily school routines and procedures. Students will take a small assessment and meet other new students.
URL:https://veritasprepma.org/event/new-scholar-orientation-2/
LOCATION:Middel School Campus\, 370 Pine Street\, Springfield\, MA\, 01105\, United States
END:VEVENT
BEGIN:VEVENT
DTSTART;TZID=America/New_York:20250729T100000
DTEND;TZID=America/New_York:20250729T120000
DTSTAMP:20260423T132242
CREATED:20250717T172422Z
LAST-MODIFIED:20250717T172422Z
UID:10000219-1753783200-1753790400@veritasprepma.org
SUMMARY:New Scholar Orientation #1
DESCRIPTION:Welcome to the Veritas Family! This event is being held for brand new Veritas scholars for the 2025-2026 school year! \nFamilies will hear information about uniforms\, transportation\, and daily school routines and procedures. Students will take a small assessment and meet other new students.
URL:https://veritasprepma.org/event/new-scholar-orientation-1/
LOCATION:Middel School Campus\, 370 Pine Street\, Springfield\, MA\, 01105\, United States
END:VEVENT
BEGIN:VEVENT
DTSTART;TZID=America/New_York:20250522T080000
DTEND;TZID=America/New_York:20250522T123000
DTSTAMP:20260423T132242
CREATED:20250408T155719Z
LAST-MODIFIED:20250408T155719Z
UID:10000215-1747900800-1747917000@veritasprepma.org
SUMMARY:Middle School 8th Grade Civics MCAS
DESCRIPTION:
URL:https://veritasprepma.org/event/middle-school-8th-grade-civics-mcas/
LOCATION:Middel School Campus\, 370 Pine Street\, Springfield\, MA\, 01105\, United States
ATTACH;FMTTYPE=image/jpeg:https://veritasprepma.org/wp-content/uploads/2025/04/IMG_9577-scaled.jpeg
END:VEVENT
BEGIN:VEVENT
DTSTART;TZID=America/New_York:20250515T080000
DTEND;TZID=America/New_York:20250515T123000
DTSTAMP:20260423T132242
CREATED:20250408T155216Z
LAST-MODIFIED:20250408T155216Z
UID:10000212-1747296000-1747312200@veritasprepma.org
SUMMARY:Middle School STE MCAS (Science & Technology/Engineering) Day #2
DESCRIPTION:
URL:https://veritasprepma.org/event/middle-school-ste-mcas-science-technology-engineering-day-2/
LOCATION:Middel School Campus\, 370 Pine Street\, Springfield\, MA\, 01105\, United States
ATTACH;FMTTYPE=image/jpeg:https://veritasprepma.org/wp-content/uploads/2025/04/IMG_0074-scaled.jpg
END:VEVENT
BEGIN:VEVENT
DTSTART;TZID=America/New_York:20250509T080000
DTEND;TZID=America/New_York:20250509T123000
DTSTAMP:20260423T132242
CREATED:20250408T154636Z
LAST-MODIFIED:20250408T160221Z
UID:10000210-1746777600-1746793800@veritasprepma.org
SUMMARY:Middle School Math MCAS Day #2
DESCRIPTION:
URL:https://veritasprepma.org/event/middle-school-math-mcas-day-2/
LOCATION:Middel School Campus\, 370 Pine Street\, Springfield\, MA\, 01105\, United States
ATTACH;FMTTYPE=image/jpeg:https://veritasprepma.org/wp-content/uploads/2025/04/Veritas_High_School_STCC_20240917_122.jpg
END:VEVENT
BEGIN:VEVENT
DTSTART;TZID=America/New_York:20250417T180000
DTEND;TZID=America/New_York:20250417T200000
DTSTAMP:20260423T132242
CREATED:20250408T153316Z
LAST-MODIFIED:20250408T154434Z
UID:10000207-1744912800-1744920000@veritasprepma.org
SUMMARY:Middle School 8th Grade Dance
DESCRIPTION:
URL:https://veritasprepma.org/event/middle-school-8th-grade-dance/
LOCATION:Middel School Campus\, 370 Pine Street\, Springfield\, MA\, 01105\, United States
ATTACH;FMTTYPE=image/png:https://veritasprepma.org/wp-content/uploads/2025/04/8th-Grade-Dance.png
END:VEVENT
BEGIN:VEVENT
DTSTART;TZID=America/New_York:20250408T080000
DTEND;TZID=America/New_York:20250408T123000
DTSTAMP:20260423T132242
CREATED:20250408T153503Z
LAST-MODIFIED:20250408T154229Z
UID:10000208-1744099200-1744115400@veritasprepma.org
SUMMARY:Middle School ELA MCAS Day #2
DESCRIPTION:
URL:https://veritasprepma.org/event/middle-school-ela-mcas-day-2/
LOCATION:Middel School Campus\, 370 Pine Street\, Springfield\, MA\, 01105\, United States
ATTACH;FMTTYPE=image/jpeg:https://veritasprepma.org/wp-content/uploads/2025/04/Veritas_High_School_STCC_20240917_078.jpg
END:VEVENT
BEGIN:VEVENT
DTSTART;TZID=America/New_York:20250114T090000
DTEND;TZID=America/New_York:20250114T103000
DTSTAMP:20260423T132242
CREATED:20241121T170202Z
LAST-MODIFIED:20241121T170823Z
UID:10000182-1736845200-1736850600@veritasprepma.org
SUMMARY:Middle School Tours & Information Sessions for prospective Veritas Families
DESCRIPTION:Join us for a tour of the middle school and learn more about our program model. Middle School Tours & Information Sessions for prospective Veritas Families Register for your Tour Today! View the flyer in English or Español. \nWhen:\nTuesday\, January 14th\n9:00-10:30 a.m.\nRegister for Tour 2 
URL:https://veritasprepma.org/event/middle-school-tours-information-sessions-for-prospective-veritas-families-2/
LOCATION:Middel School Campus\, 370 Pine Street\, Springfield\, MA\, 01105\, United States
ATTACH;FMTTYPE=image/jpeg:https://veritasprepma.org/wp-content/uploads/2024/11/1.jpg
END:VEVENT
BEGIN:VEVENT
DTSTART;TZID=America/New_York:20241205T090000
DTEND;TZID=America/New_York:20241205T103000
DTSTAMP:20260423T132242
CREATED:20241121T164954Z
LAST-MODIFIED:20241121T170833Z
UID:10000181-1733389200-1733394600@veritasprepma.org
SUMMARY:Middle School Tours & Information Sessions for prospective Veritas Families
DESCRIPTION:Join us for a tour of the middle school and learn more about our program model. Middle School Tours & Information Sessions for prospective Veritas Families Register for your Tour Today! View the flyer in English or Español. \nTour #1\nThursday\, December 5th\n9:00-10:30 a.m.\nRegister for Tour 1 \nTour #2:\nTuesday\, January 14th\n9:00-10:30 a.m.\nRegister for Tour 2 
URL:https://veritasprepma.org/event/middle-school-tours-information-sessions-for-prospective-veritas-families/
LOCATION:Middel School Campus\, 370 Pine Street\, Springfield\, MA\, 01105\, United States
ATTACH;FMTTYPE=image/jpeg:https://veritasprepma.org/wp-content/uploads/2024/11/2.jpg
END:VEVENT
END:VCALENDAR