BEGIN:VCALENDAR
VERSION:2.0
PRODID:-//Veritas Prep - ECPv6.15.20//NONSGML v1.0//EN
CALSCALE:GREGORIAN
METHOD:PUBLISH
X-ORIGINAL-URL:https://veritasprepma.org
X-WR-CALDESC:Events for Veritas Prep
REFRESH-INTERVAL;VALUE=DURATION:PT1H
X-Robots-Tag:noindex
X-PUBLISHED-TTL:PT1H
BEGIN:VTIMEZONE
TZID:America/New_York
BEGIN:DAYLIGHT
TZOFFSETFROM:-0500
TZOFFSETTO:-0400
TZNAME:EDT
DTSTART:20240310T070000
END:DAYLIGHT
BEGIN:STANDARD
TZOFFSETFROM:-0400
TZOFFSETTO:-0500
TZNAME:EST
DTSTART:20241103T060000
END:STANDARD
BEGIN:DAYLIGHT
TZOFFSETFROM:-0500
TZOFFSETTO:-0400
TZNAME:EDT
DTSTART:20250309T070000
END:DAYLIGHT
BEGIN:STANDARD
TZOFFSETFROM:-0400
TZOFFSETTO:-0500
TZNAME:EST
DTSTART:20251102T060000
END:STANDARD
BEGIN:DAYLIGHT
TZOFFSETFROM:-0500
TZOFFSETTO:-0400
TZNAME:EDT
DTSTART:20260308T070000
END:DAYLIGHT
BEGIN:STANDARD
TZOFFSETFROM:-0400
TZOFFSETTO:-0500
TZNAME:EST
DTSTART:20261101T060000
END:STANDARD
END:VTIMEZONE
BEGIN:VEVENT
DTSTART;TZID=America/New_York:20250414T171500
DTEND;TZID=America/New_York:20250414T183000
DTSTAMP:20260423T064627
CREATED:20250408T150730Z
LAST-MODIFIED:20250408T151141Z
UID:10000202-1744650900-1744655400@veritasprepma.org
SUMMARY:High School Varsity Boys Volleyball
DESCRIPTION:High School Varsity Boys Volleyball at Duggan Academy\, 5:15 PM
URL:https://veritasprepma.org/event/high-school-varsity-boys-volleyball-at-duggan-academy-515-pm/
LOCATION:John J Duggan Academy\, 1015 Wilbraham Rd\, Springfield\, MA\, 01109
END:VEVENT
BEGIN:VEVENT
DTSTART;TZID=America/New_York:20250415T170000
DTEND;TZID=America/New_York:20250415T180000
DTSTAMP:20260423T064627
CREATED:20250408T151528Z
LAST-MODIFIED:20250408T152421Z
UID:10000204-1744736400-1744740000@veritasprepma.org
SUMMARY:High School JV and Varsity Boys Volleyball
DESCRIPTION:JV Boys Volleyball at Springfield Int. Charter School\, 5PM  \nVarsity Boys Volleyball at Springfield Int. Charter School\, 5PM 
URL:https://veritasprepma.org/event/high-school-jv-and-varsity-boys-volleyball/
LOCATION:Springfield International Charter School\, 160 Joan St\, Springfield\, MA\, 01129
END:VEVENT
BEGIN:VEVENT
DTSTART;TZID=America/New_York:20250415T170000
DTEND;TZID=America/New_York:20250415T190000
DTSTAMP:20260423T064627
CREATED:20250408T160817Z
LAST-MODIFIED:20250408T160854Z
UID:10000218-1744736400-1744743600@veritasprepma.org
SUMMARY:3rd Annual Spelling V
DESCRIPTION:🎉📚 Spelling V is Back! 📚🎉\nJoin us for our 3rd Annual Spelling V on Monday\, April 15! 🐝✨\nSixteen amazing students from grades 5–8 have qualified and will compete for the title of Spelling V Champion!\n🎤 Enjoy a special intermission performance by the Viper Dance Squad\n🗽 Learn more about our 8th grade Washington D.C. trip\n🙌 Come cheer on our students as they battle it out word by word!\nRSVP here!
URL:https://veritasprepma.org/event/3rd-annual-spelling-v/
LOCATION:High School Campus\, 225 Carando Drive\, Springfield\, MA
ATTACH;FMTTYPE=image/jpeg:https://veritasprepma.org/wp-content/uploads/2025/04/SV.jpg
END:VEVENT
BEGIN:VEVENT
DTSTART;TZID=America/New_York:20250417T180000
DTEND;TZID=America/New_York:20250417T200000
DTSTAMP:20260423T064627
CREATED:20250408T153316Z
LAST-MODIFIED:20250408T154434Z
UID:10000207-1744912800-1744920000@veritasprepma.org
SUMMARY:Middle School 8th Grade Dance
DESCRIPTION:
URL:https://veritasprepma.org/event/middle-school-8th-grade-dance/
LOCATION:Middel School Campus\, 370 Pine Street\, Springfield\, MA\, 01105\, United States
ATTACH;FMTTYPE=image/png:https://veritasprepma.org/wp-content/uploads/2025/04/8th-Grade-Dance.png
END:VEVENT
BEGIN:VEVENT
DTSTART;TZID=America/New_York:20250418T180000
DTEND;TZID=America/New_York:20250418T190000
DTSTAMP:20260423T064627
CREATED:20250408T151932Z
LAST-MODIFIED:20250408T151932Z
UID:10000205-1744999200-1745002800@veritasprepma.org
SUMMARY:High School Girls Flag Football
DESCRIPTION:HS Girls Flag Football at Fitchburg Crocker Fields\, starts at 6PM
URL:https://veritasprepma.org/event/high-school-girls-flag-football/
LOCATION:Crocker Field\, Broad Street\, Fitchburg\, MA\, 01420
END:VEVENT
END:VCALENDAR