BEGIN:VCALENDAR
VERSION:2.0
PRODID:-//Veritas Prep - ECPv6.15.20//NONSGML v1.0//EN
CALSCALE:GREGORIAN
METHOD:PUBLISH
X-ORIGINAL-URL:https://veritasprepma.org
X-WR-CALDESC:Events for Veritas Prep
REFRESH-INTERVAL;VALUE=DURATION:PT1H
X-Robots-Tag:noindex
X-PUBLISHED-TTL:PT1H
BEGIN:VTIMEZONE
TZID:America/New_York
BEGIN:DAYLIGHT
TZOFFSETFROM:-0500
TZOFFSETTO:-0400
TZNAME:EDT
DTSTART:20240310T070000
END:DAYLIGHT
BEGIN:STANDARD
TZOFFSETFROM:-0400
TZOFFSETTO:-0500
TZNAME:EST
DTSTART:20241103T060000
END:STANDARD
BEGIN:DAYLIGHT
TZOFFSETFROM:-0500
TZOFFSETTO:-0400
TZNAME:EDT
DTSTART:20250309T070000
END:DAYLIGHT
BEGIN:STANDARD
TZOFFSETFROM:-0400
TZOFFSETTO:-0500
TZNAME:EST
DTSTART:20251102T060000
END:STANDARD
BEGIN:DAYLIGHT
TZOFFSETFROM:-0500
TZOFFSETTO:-0400
TZNAME:EDT
DTSTART:20260308T070000
END:DAYLIGHT
BEGIN:STANDARD
TZOFFSETFROM:-0400
TZOFFSETTO:-0500
TZNAME:EST
DTSTART:20261101T060000
END:STANDARD
END:VTIMEZONE
BEGIN:VEVENT
DTSTART;TZID=America/New_York:20250112T153000
DTEND;TZID=America/New_York:20250112T163000
DTSTAMP:20260421T104945
CREATED:20250110T181141Z
LAST-MODIFIED:20250110T182140Z
UID:10000192-1736695800-1736699400@veritasprepma.org
SUMMARY:Middle School Girls Basketball Game @ South End Community Center
DESCRIPTION:
URL:https://veritasprepma.org/event/middle-school-girls-basketball-game-south-end-community-center/
LOCATION:South End Community Center\, 99 Marble Street\, Springfield\, MA\, 01105
END:VEVENT
BEGIN:VEVENT
DTSTART;TZID=America/New_York:20250113T184500
DTEND;TZID=America/New_York:20250113T194500
DTSTAMP:20260421T104945
CREATED:20250110T181247Z
LAST-MODIFIED:20250110T181426Z
UID:10000193-1736793900-1736797500@veritasprepma.org
SUMMARY:Middle School Boys Basketball Game @ Dunbar Community Center
DESCRIPTION:
URL:https://veritasprepma.org/event/middle-school-boys-basketball-game-dunbar-community-center/
LOCATION:Dunbar Community Center\, 33 Oak Street\, Springfield\, MA\, 01109
END:VEVENT
BEGIN:VEVENT
DTSTART;TZID=America/New_York:20250114T090000
DTEND;TZID=America/New_York:20250114T103000
DTSTAMP:20260421T104945
CREATED:20241121T170202Z
LAST-MODIFIED:20241121T170823Z
UID:10000182-1736845200-1736850600@veritasprepma.org
SUMMARY:Middle School Tours & Information Sessions for prospective Veritas Families
DESCRIPTION:Join us for a tour of the middle school and learn more about our program model. Middle School Tours & Information Sessions for prospective Veritas Families Register for your Tour Today! View the flyer in English or Español. \nWhen:\nTuesday\, January 14th\n9:00-10:30 a.m.\nRegister for Tour 2 
URL:https://veritasprepma.org/event/middle-school-tours-information-sessions-for-prospective-veritas-families-2/
LOCATION:Middel School Campus\, 370 Pine Street\, Springfield\, MA\, 01105\, United States
ATTACH;FMTTYPE=image/jpeg:https://veritasprepma.org/wp-content/uploads/2024/11/1.jpg
END:VEVENT
BEGIN:VEVENT
DTSTART;TZID=America/New_York:20250114T173000
DTEND;TZID=America/New_York:20250114T200000
DTSTAMP:20260421T104945
CREATED:20250110T180315Z
LAST-MODIFIED:20250110T182414Z
UID:10000187-1736875800-1736884800@veritasprepma.org
SUMMARY:High School Boys JV & Varsity Basketball @ Westfield Tech
DESCRIPTION:High School boys JV & Varsity Basketball vs. Westfield Tech (away game)\, JV at 5:30 PM Varsity at 7PM
URL:https://veritasprepma.org/event/boys-jv-varsity-basketball-westfield-tech/
LOCATION:Westfield Technical Academy\, 33 Smith Ave\, Westfield\, MA\, 01085
END:VEVENT
BEGIN:VEVENT
DTSTART;VALUE=DATE:20250117
DTEND;VALUE=DATE:20250118
DTSTAMP:20260421T104945
CREATED:20250110T180910Z
LAST-MODIFIED:20250110T183505Z
UID:10000190-1737072000-1737158399@veritasprepma.org
SUMMARY:Math ANet Exam
DESCRIPTION:High School
URL:https://veritasprepma.org/event/math-anet-exam-high-school/
LOCATION:MA
END:VEVENT
BEGIN:VEVENT
DTSTART;VALUE=DATE:20250117
DTEND;VALUE=DATE:20250118
DTSTAMP:20260421T104945
CREATED:20250110T181012Z
LAST-MODIFIED:20250110T183410Z
UID:10000191-1737072000-1737158399@veritasprepma.org
SUMMARY:Stop & Shop Job Skills Workshop #1
DESCRIPTION:First Stop & Shop Job Skills Workshop for High School students. Sign up on School Links!
URL:https://veritasprepma.org/event/stop-shop-job-skills-workshop-1-2/
LOCATION:MA
END:VEVENT
END:VCALENDAR