BEGIN:VCALENDAR
VERSION:2.0
PRODID:-//Veritas Prep - ECPv6.15.20//NONSGML v1.0//EN
CALSCALE:GREGORIAN
METHOD:PUBLISH
X-WR-CALNAME:Veritas Prep
X-ORIGINAL-URL:https://veritasprepma.org
X-WR-CALDESC:Events for Veritas Prep
REFRESH-INTERVAL;VALUE=DURATION:PT1H
X-Robots-Tag:noindex
X-PUBLISHED-TTL:PT1H
BEGIN:VTIMEZONE
TZID:America/New_York
BEGIN:DAYLIGHT
TZOFFSETFROM:-0500
TZOFFSETTO:-0400
TZNAME:EDT
DTSTART:20220313T070000
END:DAYLIGHT
BEGIN:STANDARD
TZOFFSETFROM:-0400
TZOFFSETTO:-0500
TZNAME:EST
DTSTART:20221106T060000
END:STANDARD
BEGIN:DAYLIGHT
TZOFFSETFROM:-0500
TZOFFSETTO:-0400
TZNAME:EDT
DTSTART:20230312T070000
END:DAYLIGHT
BEGIN:STANDARD
TZOFFSETFROM:-0400
TZOFFSETTO:-0500
TZNAME:EST
DTSTART:20231105T060000
END:STANDARD
BEGIN:DAYLIGHT
TZOFFSETFROM:-0500
TZOFFSETTO:-0400
TZNAME:EDT
DTSTART:20240310T070000
END:DAYLIGHT
BEGIN:STANDARD
TZOFFSETFROM:-0400
TZOFFSETTO:-0500
TZNAME:EST
DTSTART:20241103T060000
END:STANDARD
END:VTIMEZONE
BEGIN:VEVENT
DTSTART;TZID=America/New_York:20230516T160000
DTEND;TZID=America/New_York:20230516T170000
DTSTAMP:20260419T204217
CREATED:20230320T160446Z
LAST-MODIFIED:20230320T160450Z
UID:10000083-1684252800-1684256400@veritasprepma.org
SUMMARY:Freshman Boys Volleyball vs. PVCA
DESCRIPTION:
URL:https://veritasprepma.org/event/freshman-boys-volleyball-vs-pvca/
CATEGORIES:High School,Middle School
END:VEVENT
BEGIN:VEVENT
DTSTART;TZID=America/New_York:20230512T160000
DTEND;TZID=America/New_York:20230512T170000
DTSTAMP:20260419T204217
CREATED:20230320T160310Z
LAST-MODIFIED:20230320T160313Z
UID:10000082-1683907200-1683910800@veritasprepma.org
SUMMARY:Freshman Boys Volleyball @ Holyoke High
DESCRIPTION:
URL:https://veritasprepma.org/event/freshman-boys-volleyball-holyoke-high/
LOCATION:Holyoke High School\, 500 Beech St\, Holyoke\, Massachusetts\, 01040
CATEGORIES:High School,Middle School
END:VEVENT
BEGIN:VEVENT
DTSTART;TZID=America/New_York:20230509T160000
DTEND;TZID=America/New_York:20230509T170000
DTSTAMP:20260419T204217
CREATED:20230320T155958Z
LAST-MODIFIED:20230320T160000Z
UID:10000081-1683648000-1683651600@veritasprepma.org
SUMMARY:Freshman Boys Volleyball @ Central
DESCRIPTION:
URL:https://veritasprepma.org/event/freshman-boys-volleyball-central/
CATEGORIES:High School,Middle School
END:VEVENT
BEGIN:VEVENT
DTSTART;TZID=America/New_York:20230503T163000
DTEND;TZID=America/New_York:20230503T173000
DTSTAMP:20260419T204217
CREATED:20230320T155720Z
LAST-MODIFIED:20230320T155721Z
UID:10000080-1683131400-1683135000@veritasprepma.org
SUMMARY:Freshman Boys Volleyball vs. Hampden Charter (West)
DESCRIPTION:
URL:https://veritasprepma.org/event/freshman-boys-volleyball-vs-hampden-charter-west-2/
CATEGORIES:High School,Middle School
END:VEVENT
BEGIN:VEVENT
DTSTART;TZID=America/New_York:20230426T160000
DTEND;TZID=America/New_York:20230426T170000
DTSTAMP:20260419T204217
CREATED:20230320T154703Z
LAST-MODIFIED:20230320T154707Z
UID:10000079-1682524800-1682528400@veritasprepma.org
SUMMARY:Freshman Boys Volleyball vs. South Hadley
DESCRIPTION:
URL:https://veritasprepma.org/event/freshman-boys-volleyball-vs-south-hadley/
CATEGORIES:High School,Middle School
END:VEVENT
BEGIN:VEVENT
DTSTART;TZID=America/New_York:20230421T080000
DTEND;TZID=America/New_York:20230421T170000
DTSTAMP:20260419T204217
CREATED:20221209T193117Z
LAST-MODIFIED:20221209T193119Z
UID:10000026-1682064000-1682096400@veritasprepma.org
SUMMARY:School Closed April Break
DESCRIPTION:
URL:https://veritasprepma.org/event/school-closed-april-break-5/
CATEGORIES:High School,Middle School
END:VEVENT
BEGIN:VEVENT
DTSTART;TZID=America/New_York:20230420T080000
DTEND;TZID=America/New_York:20230420T170000
DTSTAMP:20260419T204217
CREATED:20221209T193039Z
LAST-MODIFIED:20221209T193041Z
UID:10000025-1681977600-1682010000@veritasprepma.org
SUMMARY:School Closed April Break
DESCRIPTION:
URL:https://veritasprepma.org/event/school-closed-april-break-4/
CATEGORIES:High School,Middle School
END:VEVENT
BEGIN:VEVENT
DTSTART;TZID=America/New_York:20230419T080000
DTEND;TZID=America/New_York:20230419T170000
DTSTAMP:20260419T204217
CREATED:20221209T193007Z
LAST-MODIFIED:20221209T193009Z
UID:10000024-1681891200-1681923600@veritasprepma.org
SUMMARY:School Closed April Break
DESCRIPTION:
URL:https://veritasprepma.org/event/school-closed-april-break-3/
CATEGORIES:High School,Middle School
END:VEVENT
BEGIN:VEVENT
DTSTART;TZID=America/New_York:20230418T080000
DTEND;TZID=America/New_York:20230418T170000
DTSTAMP:20260419T204217
CREATED:20221209T192938Z
LAST-MODIFIED:20221209T192940Z
UID:10000023-1681804800-1681837200@veritasprepma.org
SUMMARY:School Closed April Break
DESCRIPTION:
URL:https://veritasprepma.org/event/school-closed-april-break-2/
CATEGORIES:High School,Middle School
END:VEVENT
BEGIN:VEVENT
DTSTART;TZID=America/New_York:20230417T080000
DTEND;TZID=America/New_York:20230417T170000
DTSTAMP:20260419T204217
CREATED:20221209T192859Z
LAST-MODIFIED:20221209T192902Z
UID:10000022-1681718400-1681750800@veritasprepma.org
SUMMARY:School Closed April Break
DESCRIPTION:
URL:https://veritasprepma.org/event/school-closed-april-break/
CATEGORIES:High School,Middle School
END:VEVENT
BEGIN:VEVENT
DTSTART;TZID=America/New_York:20230414T160000
DTEND;TZID=America/New_York:20230414T170000
DTSTAMP:20260419T204217
CREATED:20230320T154526Z
LAST-MODIFIED:20230320T154528Z
UID:10000078-1681488000-1681491600@veritasprepma.org
SUMMARY:Freshman Boys Volleyball @ Sci-Tech
DESCRIPTION:
URL:https://veritasprepma.org/event/freshman-boys-volleyball-sci-tech/
CATEGORIES:High School,Middle School
END:VEVENT
BEGIN:VEVENT
DTSTART;TZID=America/New_York:20230412T163000
DTEND;TZID=America/New_York:20230412T173000
DTSTAMP:20260419T204217
CREATED:20230320T154302Z
LAST-MODIFIED:20230320T154305Z
UID:10000077-1681317000-1681320600@veritasprepma.org
SUMMARY:Freshman Boys Volleyball vs. Hampden Charter (West)
DESCRIPTION:
URL:https://veritasprepma.org/event/freshman-boys-volleyball-vs-hampden-charter-west/
CATEGORIES:High School,Middle School
END:VEVENT
BEGIN:VEVENT
DTSTART;TZID=America/New_York:20230410T163000
DTEND;TZID=America/New_York:20230410T173000
DTSTAMP:20260419T204217
CREATED:20230320T154146Z
LAST-MODIFIED:20230320T154149Z
UID:10000076-1681144200-1681147800@veritasprepma.org
SUMMARY:Freshman Boys Volleyball vs. Holyoke
DESCRIPTION:
URL:https://veritasprepma.org/event/freshman-boys-volleyball-vs-holyoke/
CATEGORIES:High School,Middle School
END:VEVENT
BEGIN:VEVENT
DTSTART;TZID=America/New_York:20230407T080000
DTEND;TZID=America/New_York:20230407T170000
DTSTAMP:20260419T204217
CREATED:20221209T192818Z
LAST-MODIFIED:20221209T192821Z
UID:10000021-1680854400-1680886800@veritasprepma.org
SUMMARY:School Closed Good Friday
DESCRIPTION:
URL:https://veritasprepma.org/event/school-closed-good-friday/
CATEGORIES:High School,Middle School
END:VEVENT
BEGIN:VEVENT
DTSTART;TZID=America/New_York:20230406T160000
DTEND;TZID=America/New_York:20230406T170000
DTSTAMP:20260419T204217
CREATED:20230320T153917Z
LAST-MODIFIED:20230320T153919Z
UID:10000075-1680796800-1680800400@veritasprepma.org
SUMMARY:Freshman Boys Volleyball @ PVCA
DESCRIPTION:
URL:https://veritasprepma.org/event/freshman-boys-volleyball-pvca/
CATEGORIES:High School,Middle School
END:VEVENT
BEGIN:VEVENT
DTSTART;TZID=America/New_York:20230405T163000
DTEND;TZID=America/New_York:20230405T173000
DTSTAMP:20260419T204217
CREATED:20230320T153534Z
LAST-MODIFIED:20230320T153535Z
UID:10000074-1680712200-1680715800@veritasprepma.org
SUMMARY:Freshman Boys Volleyball vs. SICS
DESCRIPTION:
URL:https://veritasprepma.org/event/freshman-boys-volleyball-vs-sics/
CATEGORIES:High School,Middle School
END:VEVENT
BEGIN:VEVENT
DTSTART;TZID=America/New_York:20230224T080000
DTEND;TZID=America/New_York:20230224T170000
DTSTAMP:20260419T204217
CREATED:20221209T175147Z
LAST-MODIFIED:20221209T175149Z
UID:10000020-1677225600-1677258000@veritasprepma.org
SUMMARY:School Closed February Break
DESCRIPTION:
URL:https://veritasprepma.org/event/school-closed-february-break-5/
CATEGORIES:High School,Middle School
END:VEVENT
BEGIN:VEVENT
DTSTART;TZID=America/New_York:20230223T080000
DTEND;TZID=America/New_York:20230223T170000
DTSTAMP:20260419T204217
CREATED:20221209T175109Z
LAST-MODIFIED:20221209T175111Z
UID:10000019-1677139200-1677171600@veritasprepma.org
SUMMARY:School Closed February Break
DESCRIPTION:
URL:https://veritasprepma.org/event/school-closed-february-break-4/
CATEGORIES:High School,Middle School
END:VEVENT
BEGIN:VEVENT
DTSTART;TZID=America/New_York:20230222T080000
DTEND;TZID=America/New_York:20230222T170000
DTSTAMP:20260419T204217
CREATED:20221209T175039Z
LAST-MODIFIED:20221209T175041Z
UID:10000018-1677052800-1677085200@veritasprepma.org
SUMMARY:School Closed February Break
DESCRIPTION:
URL:https://veritasprepma.org/event/school-closed-february-break-3/
CATEGORIES:High School,Middle School
END:VEVENT
BEGIN:VEVENT
DTSTART;TZID=America/New_York:20230221T080000
DTEND;TZID=America/New_York:20230221T170000
DTSTAMP:20260419T204217
CREATED:20221209T174958Z
LAST-MODIFIED:20221209T175003Z
UID:10000017-1676966400-1676998800@veritasprepma.org
SUMMARY:School Closed February Break
DESCRIPTION:
URL:https://veritasprepma.org/event/school-closed-february-break-2/
CATEGORIES:High School,Middle School
END:VEVENT
BEGIN:VEVENT
DTSTART;TZID=America/New_York:20230220T080000
DTEND;TZID=America/New_York:20230220T170000
DTSTAMP:20260419T204217
CREATED:20221209T174825Z
LAST-MODIFIED:20221209T174827Z
UID:10000016-1676880000-1676912400@veritasprepma.org
SUMMARY:School Closed February Break
DESCRIPTION:
URL:https://veritasprepma.org/event/school-closed-february-break/
CATEGORIES:High School,Middle School
END:VEVENT
BEGIN:VEVENT
DTSTART;TZID=America/New_York:20230215T160000
DTEND;TZID=America/New_York:20230215T173000
DTSTAMP:20260419T204217
CREATED:20230112T153515Z
LAST-MODIFIED:20230112T153517Z
UID:10000053-1676476800-1676482200@veritasprepma.org
SUMMARY:High School Basketball Game (Home)
DESCRIPTION:Agawam @ Veritas 225 Carando Drive\, Springfield\, MA
URL:https://veritasprepma.org/event/high-school-basketball-game-home-11/
CATEGORIES:High School,Middle School
END:VEVENT
BEGIN:VEVENT
DTSTART;TZID=America/New_York:20230213T163000
DTEND;TZID=America/New_York:20230213T180000
DTSTAMP:20260419T204217
CREATED:20230112T153411Z
LAST-MODIFIED:20230112T153413Z
UID:10000052-1676305800-1676311200@veritasprepma.org
SUMMARY:High School Basketball Game (Away)
DESCRIPTION:Veritas @ Holyoke 1045 Main St\, Holyoke\, MA (Dean Tech Campus)
URL:https://veritasprepma.org/event/high-school-basketball-game-away-6/
CATEGORIES:High School,Middle School
END:VEVENT
BEGIN:VEVENT
DTSTART;TZID=America/New_York:20230210T170000
DTEND;TZID=America/New_York:20230210T183000
DTSTAMP:20260419T204217
CREATED:20230112T153245Z
LAST-MODIFIED:20230112T153248Z
UID:10000051-1676048400-1676053800@veritasprepma.org
SUMMARY:High School Basketball Game (Away)
DESCRIPTION:Veritas @ Chicopee High 650 Front St\, Chicopee\, MA (Dupont Middle School Gym)
URL:https://veritasprepma.org/event/high-school-basketball-game-away-5/
CATEGORIES:High School,Middle School
END:VEVENT
BEGIN:VEVENT
DTSTART;TZID=America/New_York:20230208T163000
DTEND;TZID=America/New_York:20230208T180000
DTSTAMP:20260419T204217
CREATED:20230112T153016Z
LAST-MODIFIED:20230112T153018Z
UID:10000050-1675873800-1675879200@veritasprepma.org
SUMMARY:High School Basketball Game (Away)
DESCRIPTION:Veritas @ Ware 237 West St\, Ware\, MA
URL:https://veritasprepma.org/event/high-school-basketball-game-away-4/
CATEGORIES:High School,Middle School
END:VEVENT
BEGIN:VEVENT
DTSTART;TZID=America/New_York:20230206T170000
DTEND;TZID=America/New_York:20230206T183000
DTSTAMP:20260419T204217
CREATED:20230112T152236Z
LAST-MODIFIED:20230112T152240Z
UID:10000049-1675702800-1675708200@veritasprepma.org
SUMMARY:High School Basketball Game (Home)
DESCRIPTION:Chicopee High @ Veritas 225 Carando Drive\, Springfield\, MA
URL:https://veritasprepma.org/event/high-school-basketball-game-home-10/
CATEGORIES:High School,Middle School
END:VEVENT
BEGIN:VEVENT
DTSTART;TZID=America/New_York:20230202T163000
DTEND;TZID=America/New_York:20230202T180000
DTSTAMP:20260419T204217
CREATED:20230112T151659Z
LAST-MODIFIED:20230112T151700Z
UID:10000048-1675355400-1675360800@veritasprepma.org
SUMMARY:High School Basketball Game (Home)
DESCRIPTION:Belchertown @ Veritas 225 Carando Drive\, Springfield\, MA
URL:https://veritasprepma.org/event/high-school-basketball-game-home-9/
CATEGORIES:High School,Middle School
END:VEVENT
BEGIN:VEVENT
DTSTART;TZID=America/New_York:20230131T163000
DTEND;TZID=America/New_York:20230131T180000
DTSTAMP:20260419T204217
CREATED:20230112T151252Z
LAST-MODIFIED:20230112T151254Z
UID:10000046-1675182600-1675188000@veritasprepma.org
SUMMARY:High School Basketball Game (Home)
DESCRIPTION:Hampden Charter (West) @ Veritas 225 Carando Drive\, Springfield\, MA
URL:https://veritasprepma.org/event/high-school-basketball-game-home-7/
CATEGORIES:High School,Middle School
END:VEVENT
BEGIN:VEVENT
DTSTART;TZID=America/New_York:20230126T173000
DTEND;TZID=America/New_York:20230126T190000
DTSTAMP:20260419T204217
CREATED:20230112T151136Z
LAST-MODIFIED:20230112T151139Z
UID:10000045-1674754200-1674759600@veritasprepma.org
SUMMARY:High School Basketball Game (Home)
DESCRIPTION:Ware @ Veritas 225 Carando Drive\, Springfield\, MA
URL:https://veritasprepma.org/event/high-school-basketball-game-home-6/
CATEGORIES:High School,Middle School
END:VEVENT
BEGIN:VEVENT
DTSTART;TZID=America/New_York:20230124T170000
DTEND;TZID=America/New_York:20230124T183000
DTSTAMP:20260419T204217
CREATED:20230112T150646Z
LAST-MODIFIED:20230112T150648Z
UID:10000044-1674579600-1674585000@veritasprepma.org
SUMMARY:High School Basketball Game (Home)
DESCRIPTION:Holyoke @ Veritas 225 Carando Drive\, Springfield\, MA
URL:https://veritasprepma.org/event/high-school-basketball-game-home-5/
CATEGORIES:High School,Middle School
END:VEVENT
END:VCALENDAR