BEGIN:VCALENDAR
VERSION:2.0
PRODID:-//Veritas Prep - ECPv6.15.20//NONSGML v1.0//EN
CALSCALE:GREGORIAN
METHOD:PUBLISH
X-ORIGINAL-URL:https://veritasprepma.org
X-WR-CALDESC:Events for Veritas Prep
REFRESH-INTERVAL;VALUE=DURATION:PT1H
X-Robots-Tag:noindex
X-PUBLISHED-TTL:PT1H
BEGIN:VTIMEZONE
TZID:America/New_York
BEGIN:DAYLIGHT
TZOFFSETFROM:-0500
TZOFFSETTO:-0400
TZNAME:EDT
DTSTART:20220313T070000
END:DAYLIGHT
BEGIN:STANDARD
TZOFFSETFROM:-0400
TZOFFSETTO:-0500
TZNAME:EST
DTSTART:20221106T060000
END:STANDARD
BEGIN:DAYLIGHT
TZOFFSETFROM:-0500
TZOFFSETTO:-0400
TZNAME:EDT
DTSTART:20230312T070000
END:DAYLIGHT
BEGIN:STANDARD
TZOFFSETFROM:-0400
TZOFFSETTO:-0500
TZNAME:EST
DTSTART:20231105T060000
END:STANDARD
BEGIN:DAYLIGHT
TZOFFSETFROM:-0500
TZOFFSETTO:-0400
TZNAME:EDT
DTSTART:20240310T070000
END:DAYLIGHT
BEGIN:STANDARD
TZOFFSETFROM:-0400
TZOFFSETTO:-0500
TZNAME:EST
DTSTART:20241103T060000
END:STANDARD
BEGIN:DAYLIGHT
TZOFFSETFROM:-0500
TZOFFSETTO:-0400
TZNAME:EDT
DTSTART:20250309T070000
END:DAYLIGHT
BEGIN:STANDARD
TZOFFSETFROM:-0400
TZOFFSETTO:-0500
TZNAME:EST
DTSTART:20251102T060000
END:STANDARD
END:VTIMEZONE
BEGIN:VEVENT
DTSTART;TZID=America/New_York:20240621T000000
DTEND;TZID=America/New_York:20240621T235959
DTSTAMP:20260419T164744
CREATED:20230802T142643Z
LAST-MODIFIED:20230802T142644Z
UID:10000112-1718928000-1719014399@veritasprepma.org
SUMMARY:Final Report Cards Sent Home
DESCRIPTION:
URL:https://veritasprepma.org/event/final-report-cards-sent-home/
CATEGORIES:High School,Middle School
END:VEVENT
BEGIN:VEVENT
DTSTART;TZID=America/New_York:20240619T000000
DTEND;TZID=America/New_York:20240619T235959
DTSTAMP:20260419T164744
CREATED:20230802T142558Z
LAST-MODIFIED:20230802T142559Z
UID:10000111-1718755200-1718841599@veritasprepma.org
SUMMARY:Juneteenth\, School Closed
DESCRIPTION:
URL:https://veritasprepma.org/event/juneteenth-school-closed/
CATEGORIES:High School,Middle School
END:VEVENT
BEGIN:VEVENT
DTSTART;TZID=America/New_York:20240618T000000
DTEND;TZID=America/New_York:20240618T235959
DTSTAMP:20260419T164744
CREATED:20230802T142517Z
LAST-MODIFIED:20230802T142519Z
UID:10000110-1718668800-1718755199@veritasprepma.org
SUMMARY:Tentative Last Day of School
DESCRIPTION:
URL:https://veritasprepma.org/event/tentative-last-day-of-school/
CATEGORIES:High School,Middle School
END:VEVENT
BEGIN:VEVENT
DTSTART;TZID=America/New_York:20240527T000000
DTEND;TZID=America/New_York:20240527T235959
DTSTAMP:20260419T164744
CREATED:20230802T142428Z
LAST-MODIFIED:20230802T142429Z
UID:10000109-1716768000-1716854399@veritasprepma.org
SUMMARY:Memorial Day\, School Closed
DESCRIPTION:
URL:https://veritasprepma.org/event/memorial-day-school-closed/
CATEGORIES:High School,Middle School
END:VEVENT
BEGIN:VEVENT
DTSTART;TZID=America/New_York:20240415T080000
DTEND;TZID=America/New_York:20240419T170000
DTSTAMP:20260419T164744
CREATED:20230802T142223Z
LAST-MODIFIED:20230802T142224Z
UID:10000107-1713168000-1713546000@veritasprepma.org
SUMMARY:April Break
DESCRIPTION:
URL:https://veritasprepma.org/event/april-break/
CATEGORIES:High School,Middle School
END:VEVENT
BEGIN:VEVENT
DTSTART;TZID=America/New_York:20240329T000000
DTEND;TZID=America/New_York:20240329T235959
DTSTAMP:20260419T164744
CREATED:20230802T142139Z
LAST-MODIFIED:20230802T142141Z
UID:10000106-1711670400-1711756799@veritasprepma.org
SUMMARY:Good Friday\, School Closed
DESCRIPTION:
URL:https://veritasprepma.org/event/good-friday-school-closed/
CATEGORIES:High School,Middle School
END:VEVENT
BEGIN:VEVENT
DTSTART;TZID=America/New_York:20240321T000000
DTEND;TZID=America/New_York:20240322T235959
DTSTAMP:20260419T164744
CREATED:20230802T142052Z
LAST-MODIFIED:20230802T142054Z
UID:10000105-1710979200-1711151999@veritasprepma.org
SUMMARY:Student Led Conferences
DESCRIPTION:
URL:https://veritasprepma.org/event/student-led-conferences/
CATEGORIES:High School
END:VEVENT
BEGIN:VEVENT
DTSTART;TZID=America/New_York:20240219T000000
DTEND;TZID=America/New_York:20240223T235959
DTSTAMP:20260419T164744
CREATED:20230802T141457Z
LAST-MODIFIED:20230802T141458Z
UID:10000103-1708300800-1708732799@veritasprepma.org
SUMMARY:February Break
DESCRIPTION:
URL:https://veritasprepma.org/event/february-break/
CATEGORIES:High School,Middle School
END:VEVENT
BEGIN:VEVENT
DTSTART;TZID=America/New_York:20240119T000000
DTEND;TZID=America/New_York:20240119T235959
DTSTAMP:20260419T164744
CREATED:20230802T135417Z
LAST-MODIFIED:20230802T135418Z
UID:10000101-1705622400-1705708799@veritasprepma.org
SUMMARY:Report Cards
DESCRIPTION:
URL:https://veritasprepma.org/event/report-cards/
CATEGORIES:High School
END:VEVENT
BEGIN:VEVENT
DTSTART;TZID=America/New_York:20240115T000000
DTEND;TZID=America/New_York:20240115T235959
DTSTAMP:20260419T164744
CREATED:20230802T135201Z
LAST-MODIFIED:20230802T135203Z
UID:10000100-1705276800-1705363199@veritasprepma.org
SUMMARY:Martin Luther King\, Jr. Day\, School Closed
DESCRIPTION:
URL:https://veritasprepma.org/event/martin-luther-king-jr-day-school-closed/
CATEGORIES:High School,Middle School
END:VEVENT
BEGIN:VEVENT
DTSTART;TZID=America/New_York:20240102T000000
DTEND;TZID=America/New_York:20240102T235959
DTSTAMP:20260419T164744
CREATED:20230802T135116Z
LAST-MODIFIED:20230802T135118Z
UID:10000099-1704153600-1704239999@veritasprepma.org
SUMMARY:Professional Development (No Students)
DESCRIPTION:
URL:https://veritasprepma.org/event/professional-development-no-students-2/
CATEGORIES:High School,Middle School
END:VEVENT
BEGIN:VEVENT
DTSTART;TZID=America/New_York:20231225T000000
DTEND;TZID=America/New_York:20240102T235959
DTSTAMP:20260419T164744
CREATED:20230802T135025Z
LAST-MODIFIED:20230802T135027Z
UID:10000098-1703462400-1704239999@veritasprepma.org
SUMMARY:Winter Break\, School Closed
DESCRIPTION:
URL:https://veritasprepma.org/event/winter-break-school-closed/
CATEGORIES:High School,Middle School
END:VEVENT
BEGIN:VEVENT
DTSTART;TZID=America/New_York:20231222T000000
DTEND;TZID=America/New_York:20231222T235959
DTSTAMP:20260419T164744
CREATED:20230802T134854Z
LAST-MODIFIED:20230802T134856Z
UID:10000097-1703203200-1703289599@veritasprepma.org
SUMMARY:Half Day
DESCRIPTION:
URL:https://veritasprepma.org/event/half-day/
CATEGORIES:High School,Middle School
END:VEVENT
BEGIN:VEVENT
DTSTART;TZID=America/New_York:20231122T000000
DTEND;TZID=America/New_York:20231124T235959
DTSTAMP:20260419T164744
CREATED:20230802T134807Z
LAST-MODIFIED:20230802T134808Z
UID:10000096-1700611200-1700870399@veritasprepma.org
SUMMARY:Thanksgiving Break\, School Closed
DESCRIPTION:
URL:https://veritasprepma.org/event/thanksgiving-break-school-closed/
CATEGORIES:High School,Middle School
END:VEVENT
BEGIN:VEVENT
DTSTART;TZID=America/New_York:20231110T000000
DTEND;TZID=America/New_York:20231110T235959
DTSTAMP:20260419T164744
CREATED:20230802T134609Z
LAST-MODIFIED:20230802T134610Z
UID:10000094-1699574400-1699660799@veritasprepma.org
SUMMARY:Veterans Day\, School Closed
DESCRIPTION:
URL:https://veritasprepma.org/event/veterans-day-school-closed/
CATEGORIES:High School,Middle School
END:VEVENT
BEGIN:VEVENT
DTSTART;TZID=America/New_York:20231107T000000
DTEND;TZID=America/New_York:20231107T235959
DTSTAMP:20260419T164744
CREATED:20230802T134519Z
LAST-MODIFIED:20230802T134520Z
UID:10000093-1699315200-1699401599@veritasprepma.org
SUMMARY:Professional Development (No Students)
DESCRIPTION:
URL:https://veritasprepma.org/event/professional-development-no-students/
CATEGORIES:High School,Middle School
END:VEVENT
BEGIN:VEVENT
DTSTART;TZID=America/New_York:20231102T000000
DTEND;TZID=America/New_York:20231103T235959
DTSTAMP:20260419T164744
CREATED:20230802T134428Z
LAST-MODIFIED:20230802T134429Z
UID:10000092-1698883200-1699055999@veritasprepma.org
SUMMARY:Student Led Conferences (Half Day)
DESCRIPTION:
URL:https://veritasprepma.org/event/student-led-conferences-half-day/
CATEGORIES:High School
END:VEVENT
BEGIN:VEVENT
DTSTART;TZID=America/New_York:20231009T000000
DTEND;TZID=America/New_York:20231009T235959
DTSTAMP:20260419T164744
CREATED:20230802T134303Z
LAST-MODIFIED:20230802T134305Z
UID:10000091-1696809600-1696895999@veritasprepma.org
SUMMARY:Indigenous Peoples Day\, School Closed
DESCRIPTION:
URL:https://veritasprepma.org/event/indigenous-peoples-day-school-closed/
CATEGORIES:High School,Middle School
END:VEVENT
BEGIN:VEVENT
DTSTART;TZID=America/New_York:20230904T000000
DTEND;TZID=America/New_York:20230904T235959
DTSTAMP:20260419T164744
CREATED:20230802T134056Z
LAST-MODIFIED:20230802T134057Z
UID:10000089-1693785600-1693871999@veritasprepma.org
SUMMARY:Labor Day\, School Closed
DESCRIPTION:
URL:https://veritasprepma.org/event/labor-day-school-closed/
CATEGORIES:High School,Middle School
END:VEVENT
BEGIN:VEVENT
DTSTART;TZID=America/New_York:20230828T000000
DTEND;TZID=America/New_York:20230828T235959
DTSTAMP:20260419T164744
CREATED:20230802T133946Z
LAST-MODIFIED:20230802T133947Z
UID:10000088-1693180800-1693267199@veritasprepma.org
SUMMARY:First Day of School
DESCRIPTION:Middle School Arrival: 8:30-8:45 a.m. \n\n\n\nHigh School Arrival: 7:45-8:00 a.m.
URL:https://veritasprepma.org/event/first-day-of-school/
CATEGORIES:High School,Middle School
END:VEVENT
BEGIN:VEVENT
DTSTART;TZID=America/New_York:20230620T133000
DTEND;TZID=America/New_York:20230620T133000
DTSTAMP:20260419T164744
CREATED:20221209T193413Z
LAST-MODIFIED:20230606T142825Z
UID:10000029-1687267800-1687267800@veritasprepma.org
SUMMARY:Last Day of School (Half Day)
DESCRIPTION:
URL:https://veritasprepma.org/event/last-day-of-school-half-day/
CATEGORIES:High School,Middle School
END:VEVENT
BEGIN:VEVENT
DTSTART;TZID=America/New_York:20230619T080000
DTEND;TZID=America/New_York:20230619T170000
DTSTAMP:20260419T164744
CREATED:20221209T193333Z
LAST-MODIFIED:20221209T193335Z
UID:10000028-1687161600-1687194000@veritasprepma.org
SUMMARY:School Closed Juneteenth
DESCRIPTION:
URL:https://veritasprepma.org/event/school-closed-juneteenth/
CATEGORIES:High School,Middle School
END:VEVENT
BEGIN:VEVENT
DTSTART;TZID=America/New_York:20230529T080000
DTEND;TZID=America/New_York:20230529T170000
DTSTAMP:20260419T164744
CREATED:20221209T193300Z
LAST-MODIFIED:20221209T193302Z
UID:10000027-1685347200-1685379600@veritasprepma.org
SUMMARY:School Closed Memorial Day
DESCRIPTION:
URL:https://veritasprepma.org/event/school-closed-memorial-day/
CATEGORIES:High School,Middle School
END:VEVENT
BEGIN:VEVENT
DTSTART;TZID=America/New_York:20230517T160000
DTEND;TZID=America/New_York:20230517T170000
DTSTAMP:20260419T164744
CREATED:20230320T160700Z
LAST-MODIFIED:20230320T160702Z
UID:10000084-1684339200-1684342800@veritasprepma.org
SUMMARY:Freshman Boys Volleyball @ South Hadley
DESCRIPTION:
URL:https://veritasprepma.org/event/freshman-boys-volleyball-south-hadley/
CATEGORIES:High School,Middle School
END:VEVENT
BEGIN:VEVENT
DTSTART;TZID=America/New_York:20230516T160000
DTEND;TZID=America/New_York:20230516T170000
DTSTAMP:20260419T164744
CREATED:20230320T160446Z
LAST-MODIFIED:20230320T160450Z
UID:10000083-1684252800-1684256400@veritasprepma.org
SUMMARY:Freshman Boys Volleyball vs. PVCA
DESCRIPTION:
URL:https://veritasprepma.org/event/freshman-boys-volleyball-vs-pvca/
CATEGORIES:High School,Middle School
END:VEVENT
BEGIN:VEVENT
DTSTART;TZID=America/New_York:20230512T160000
DTEND;TZID=America/New_York:20230512T170000
DTSTAMP:20260419T164744
CREATED:20230320T160310Z
LAST-MODIFIED:20230320T160313Z
UID:10000082-1683907200-1683910800@veritasprepma.org
SUMMARY:Freshman Boys Volleyball @ Holyoke High
DESCRIPTION:
URL:https://veritasprepma.org/event/freshman-boys-volleyball-holyoke-high/
LOCATION:Holyoke High School\, 500 Beech St\, Holyoke\, Massachusetts\, 01040
CATEGORIES:High School,Middle School
END:VEVENT
BEGIN:VEVENT
DTSTART;TZID=America/New_York:20230509T160000
DTEND;TZID=America/New_York:20230509T170000
DTSTAMP:20260419T164744
CREATED:20230320T155958Z
LAST-MODIFIED:20230320T160000Z
UID:10000081-1683648000-1683651600@veritasprepma.org
SUMMARY:Freshman Boys Volleyball @ Central
DESCRIPTION:
URL:https://veritasprepma.org/event/freshman-boys-volleyball-central/
CATEGORIES:High School,Middle School
END:VEVENT
BEGIN:VEVENT
DTSTART;TZID=America/New_York:20230503T163000
DTEND;TZID=America/New_York:20230503T173000
DTSTAMP:20260419T164744
CREATED:20230320T155720Z
LAST-MODIFIED:20230320T155721Z
UID:10000080-1683131400-1683135000@veritasprepma.org
SUMMARY:Freshman Boys Volleyball vs. Hampden Charter (West)
DESCRIPTION:
URL:https://veritasprepma.org/event/freshman-boys-volleyball-vs-hampden-charter-west-2/
CATEGORIES:High School,Middle School
END:VEVENT
BEGIN:VEVENT
DTSTART;TZID=America/New_York:20230426T160000
DTEND;TZID=America/New_York:20230426T170000
DTSTAMP:20260419T164744
CREATED:20230320T154703Z
LAST-MODIFIED:20230320T154707Z
UID:10000079-1682524800-1682528400@veritasprepma.org
SUMMARY:Freshman Boys Volleyball vs. South Hadley
DESCRIPTION:
URL:https://veritasprepma.org/event/freshman-boys-volleyball-vs-south-hadley/
CATEGORIES:High School,Middle School
END:VEVENT
BEGIN:VEVENT
DTSTART;TZID=America/New_York:20230421T080000
DTEND;TZID=America/New_York:20230421T170000
DTSTAMP:20260419T164744
CREATED:20221209T193117Z
LAST-MODIFIED:20221209T193119Z
UID:10000026-1682064000-1682096400@veritasprepma.org
SUMMARY:School Closed April Break
DESCRIPTION:
URL:https://veritasprepma.org/event/school-closed-april-break-5/
CATEGORIES:High School,Middle School
END:VEVENT
END:VCALENDAR